BEGIN:VCALENDAR
VERSION:2.0
PRODID:-//Tukios.com/
BEGIN:VEVENT
UID:10708b75-e912-44e1-8cb2-4b556d09befc@www.lnhughes.com
DTSTAMP:20260424T020657Z
DTSTART:20260506T171500Z
DTEND:20260506T181500Z
SUMMARY:Burial
DESCRIPTION:
URL:https://www.lnhughes.com/obituaries/victoria-rogers
LOCATION: 1005 Western Ave  Hammond LA 70401
GEO:30.5104935;-90.4755993
END:VEVENT
END:VCALENDAR