BEGIN:VCALENDAR
VERSION:2.0
PRODID:-//Tukios.com/
BEGIN:VEVENT
UID:2ea33f16-713f-4400-af51-91c30694d1b2@www.lnhughes.com
DTSTAMP:20260424T020146Z
DTSTART:20260506T160000Z
DTEND:20260506T170000Z
SUMMARY:Mass
DESCRIPTION:
URL:https://www.lnhughes.com/obituaries/victoria-rogers
LOCATION: 600 N Oak St  Hammond LA 70401
GEO:30.509213;-90.4634557
END:VEVENT
END:VCALENDAR