BEGIN:VCALENDAR
VERSION:2.0
PRODID:-//Tukios.com/
BEGIN:VEVENT
UID:e4973c89-03f1-4b9d-9584-9a958278aca8@www.lnhughes.com
DTSTAMP:20260424T020657Z
DTSTART:20260506T150000Z
DTEND:20260506T160000Z
SUMMARY:Visitation
DESCRIPTION:
URL:https://www.lnhughes.com/obituaries/victoria-rogers
LOCATION: 600 N Oak St  Hammond LA 70401
GEO:30.509213;-90.4634557
END:VEVENT
END:VCALENDAR